BEGIN:VCALENDAR
VERSION:2.0
PRODID:-//Lara&#039;s Place: Activity &amp; Learning Center for All Ages - ECPv6.3.2//NONSGML v1.0//EN
CALSCALE:GREGORIAN
METHOD:PUBLISH
X-ORIGINAL-URL:https://larasplace.my
X-WR-CALDESC:Events for Lara&#039;s Place: Activity &amp; Learning Center for All Ages
REFRESH-INTERVAL;VALUE=DURATION:PT1H
X-Robots-Tag:noindex
X-PUBLISHED-TTL:PT1H
BEGIN:VTIMEZONE
TZID:Asia/Kuala_Lumpur
BEGIN:STANDARD
TZOFFSETFROM:+0800
TZOFFSETTO:+0800
TZNAME:+08
DTSTART:20250101T000000
END:STANDARD
END:VTIMEZONE
BEGIN:VEVENT
DTSTART;TZID=Asia/Kuala_Lumpur:20250721T100000
DTEND;TZID=Asia/Kuala_Lumpur:20250725T160000
DTSTAMP:20260421T083757
CREATED:20170630T055408Z
LAST-MODIFIED:20250602T021836Z
UID:10840-1753092000-1753459200@larasplace.my
SUMMARY:Happy & Healthy Body & Mind Program July August 2025
DESCRIPTION:HAPPY & HEALTHY MIND & BODY PROGRAM  \n\n\n\nDate: Jul 21-25 2025\nTime: 10am-4pm\nFee: RM90 half day or RM168 full day (incl lunch) or RM825 for 5 full days\n(Healthy Living Tips\, Fitness Activities (CAPOEIRA\, YOGA\, DANCE\, OBSTACLE RACE)\, Healthy Eating & Baking/Cooking(granola snack bars\, tomato pasta bake \, baked potato wedges)\, Mental Health\, Social Games\, Hygiene and DIY Personal Care (Shower Cream/Gel & Healing Balm\, Moisturizing Hand wash & Cuticle Oil/Cream)\n\n\n\n\n\n\n\n \n \n  \n 
URL:https://larasplace.my/event/shp-happy-healthy-3/
CATEGORIES:holiday program
END:VEVENT
END:VCALENDAR