BEGIN:VCALENDAR
VERSION:2.0
PRODID:-//Lara&#039;s Place: Activity &amp; Learning Center for All Ages - ECPv6.3.2//NONSGML v1.0//EN
CALSCALE:GREGORIAN
METHOD:PUBLISH
X-WR-CALNAME:Lara&#039;s Place: Activity &amp; Learning Center for All Ages
X-ORIGINAL-URL:https://larasplace.my
X-WR-CALDESC:Events for Lara&#039;s Place: Activity &amp; Learning Center for All Ages
REFRESH-INTERVAL;VALUE=DURATION:PT1H
X-Robots-Tag:noindex
X-PUBLISHED-TTL:PT1H
BEGIN:VTIMEZONE
TZID:Asia/Kuala_Lumpur
BEGIN:STANDARD
TZOFFSETFROM:+0800
TZOFFSETTO:+0800
TZNAME:+08
DTSTART:20260101T000000
END:STANDARD
END:VTIMEZONE
BEGIN:VEVENT
DTSTART;TZID=Asia/Kuala_Lumpur:20260319T133000
DTEND;TZID=Asia/Kuala_Lumpur:20260403T153000
DTSTAMP:20260420T002950
CREATED:20190504T053618Z
LAST-MODIFIED:20260222T104522Z
UID:12828-1773927000-1775230200@larasplace.my
SUMMARY:Magicians Workshops / Holiday Program 2025-2026
DESCRIPTION:MAGICIANS workshops \n\n\nMAGICIANS A-T WORKSHOPS\n\n Date: Mar 19\,20\,23-31\,Apr 1-3 2026\n\nTime:130-330pm\n\n\nFee: RM90 per workshop or RM420 for 5 workshops (incl all magic materials)\n\n\n\n\nDiscover Magicians’ secrets\, learn performing skills and improve your self-confidence.\n\n\nBedazzle your family and friends with your ‘magical’ performance.\n\n\nBenefits of Magicians Workshop:\n\n\n\n\nImprove self-confidence\n\n\nLearn Performing skills\n\n\nEnhance social skills\n\n\nDiscover magic secrets\n\n\nUtilize both right and left brain\n\n\n\n\nSchedule & itinerary are subject to changes. \n\n\nLara’s Place: Tel: 0178862687 Email: larasplace@gmail.com Website: www.larasplace.my\n\n \n  \n 
URL:https://larasplace.my/event/magicians-workshops-holiday-programs-copy/
CATEGORIES:holiday program,Intl Preschool,Intl Teenagers
END:VEVENT
BEGIN:VEVENT
DTSTART;TZID=Asia/Kuala_Lumpur:20260323T100000
DTEND;TZID=Asia/Kuala_Lumpur:20260327T160000
DTSTAMP:20260420T002950
CREATED:20190626T171530Z
LAST-MODIFIED:20260222T104301Z
UID:12920-1774260000-1774627200@larasplace.my
SUMMARY:SENSATIONAL SEA LIFE HOLIDAY PROGRAM 2026
DESCRIPTION:SENSATIONAL SEA LIFE\n*Activities include: Sea Life Facts Learning\, Sea Mural\, Tote Bag Painting\, Bizarre Sea Creatures\, Sea Animal Biscuits Workshop\, Sea Life Soap Making\, Sea Shell Candle Making\, Sea Animal Toy Making\, Sea World Clay Workshop\, Titanic & Iceberg Experiment\,  DIY Boat Building\, Ocean Animals Origami\, Windchimes\, DIY fishing game\, Décor\, Sea Party with Food\, Fun Games and Prizes!\n\n\n\nDate: Mar 23-27 2026\nTime: 10am to 4pm\nFee: RM90 half day or RM168 full day or RM825 for 5 full days (includes lunch)\n\n\n\nFUN LEARNING & EXCITING ACTIVITIES\n‘Sensational Sea Life’ Activities include:\n\n¨ ‘Sea Life Learning Discovery\n¨ Science Experiment\n¨ Creative Projects\n¨ DIY Workshops\n¨ Cooking Workshops\n¨ Fun Games & Prizes\n\n¨ \n\nLEARNING BENEFITS: \nGeneral Knowledge\nTeamwork \nCreativity\nCooking & DIY Skills\n\n \n*Activities include: Sea Life Facts Learning\, Sea Mural\, Tote Bag Painting\, Bizarre Sea Creatures\, Sea Animal Biscuits Workshop\, Sea Life Soap Making\, Sea Shell Candle Making\, Sea Animal Toy Making\, Sea World Clay Workshop\, Titanic & Iceberg Experiment\,  DIY Boat Building\, Ocean Animals Origami\, Windchimes\, DIY fishing game\, Décor\, Sea Party with Food\, Fun Games and Prizes! \n 
URL:https://larasplace.my/event/sensational-sea-world-holiday-program/
CATEGORIES:holiday program
END:VEVENT
BEGIN:VEVENT
DTSTART;TZID=Asia/Kuala_Lumpur:20260323T100000
DTEND;TZID=Asia/Kuala_Lumpur:20260327T160000
DTSTAMP:20260420T002950
CREATED:20200623T141310Z
LAST-MODIFIED:20260222T110843Z
UID:13232-1774260000-1774627200@larasplace.my
SUMMARY:SPOTLIGHT THEATER CAMP MARCH 2026
DESCRIPTION:SPOTLIGHT THEATER CAMP\nDynamic Public Speaking\, Literature\, Self-Esteem\, Creativity\, Development of Awareness & Empathy through exploring Monologues\, Infomercials and Several Skits.\nParents will be invited to a showcase performance on the last hour (last day) of the camp (8yrs to Teens)\n5 Days camp\nGroup A (4-7yrs) 10am-12pm RM400\nGroup B (8yrs-teen) 10am to 4pm RM800 (without lunch)/RM875(with lunch)\nDate: March 23 – 27 2026\nTime: 10am to 12pm/10am to 4pm\nFee: RM400/800/875\nlimited space only!\n \nLara’s Place: Tel: 0178862687 Email: larasplace@gmail.com Website: www.larasplace.my \n 
URL:https://larasplace.my/event/spotlight-theater-camp-copy/
CATEGORIES:holiday program,Intl Preschool,Intl Teenagers
END:VEVENT
BEGIN:VEVENT
DTSTART;TZID=Asia/Kuala_Lumpur:20260330T100000
DTEND;TZID=Asia/Kuala_Lumpur:20260403T120000
DTSTAMP:20260420T002950
CREATED:20161108T072618Z
LAST-MODIFIED:20260222T105807Z
UID:9656-1774864800-1775217600@larasplace.my
SUMMARY:SCIENCE MAGIC DRAMA March 2026
DESCRIPTION:SCIENCE MAGIC DRAMA HOLIDAY PROGRAM\nDate: March 30 – April 3 2026\nTime: 10am -12pm\nYour child will experience being a scientist as well as magician and learn drama/presentation skills at the same time!
URL:https://larasplace.my/event/shp-drama-magical-science/
CATEGORIES:holiday program
END:VEVENT
BEGIN:VEVENT
DTSTART;TZID=Asia/Kuala_Lumpur:20260330T133000
DTEND;TZID=Asia/Kuala_Lumpur:20260403T153000
DTSTAMP:20260420T002950
CREATED:20260225T185144Z
LAST-MODIFIED:20260225T185144Z
UID:15656-1774877400-1775230200@larasplace.my
SUMMARY:HERBS AND SPICES AROUND ME 2026
DESCRIPTION:HERBS AND SPICES AROUND ME \n\nHIGHLIGHT ACTIVITIES AND PROJECTS -Plant Part Sorting\, Leaf Crushing Experiment\, Garden Pharmacy Drawing\, Spice Mystery Challenge\, Food Matching Game and Plant a Herb) \nDate: March 30 to April 3 2026\nTime: 130-330pm\nFee: RM110 per day or RM500 for 5 days
URL:https://larasplace.my/event/herbs-and-spices-around-me-2026/
CATEGORIES:holiday program,Intl Preschool
END:VEVENT
END:VCALENDAR