BEGIN:VCALENDAR
VERSION:2.0
PRODID:-//Lara&#039;s Place: Activity &amp; Learning Center for All Ages - ECPv6.3.2//NONSGML v1.0//EN
CALSCALE:GREGORIAN
METHOD:PUBLISH
X-ORIGINAL-URL:https://larasplace.my
X-WR-CALDESC:Events for Lara&#039;s Place: Activity &amp; Learning Center for All Ages
REFRESH-INTERVAL;VALUE=DURATION:PT1H
X-Robots-Tag:noindex
X-PUBLISHED-TTL:PT1H
BEGIN:VTIMEZONE
TZID:Asia/Kuala_Lumpur
BEGIN:STANDARD
TZOFFSETFROM:+0800
TZOFFSETTO:+0800
TZNAME:+08
DTSTART:20250101T000000
END:STANDARD
END:VTIMEZONE
BEGIN:VEVENT
DTSTART;TZID=Asia/Kuala_Lumpur:20250127T100000
DTEND;TZID=Asia/Kuala_Lumpur:20250214T160000
DTSTAMP:20260420T173728
CREATED:20250109T152557Z
LAST-MODIFIED:20250110T140152Z
UID:15228-1737972000-1739548800@larasplace.my
SUMMARY:SPECIAL OCCASIONS WORKSHOPS- CNY AND VALENTINE 2025
DESCRIPTION:SPECIAL OCCASION WORKSHOPS\nCNY THEME WORKSHOPS\n\nCNY Dragon Toys Making and CNY Cornflake Butter Cookies (Jan 27) \nCNY Treats Jar & Decorating and CNY Almond Cookies (Jan 28) \nCNY Garden Terrarium and Creative CNY Cookies & Painting (Jan 31) \nCNY Dragon Cookies (Feb 10) and \nCNY Snake Breadsticks (Feb 11)\n\nVALENTINE SPECIALS\n\nValentine Soap Making and Valentine Cookies (Feb 14)\n\n\nTime: 10am-1230pm / 130pm-4pm / 10am – 4pm\nFee: half day RM90 or full day RM168 (includes lunch)
URL:https://larasplace.my/event/special-occasions-workshops/
CATEGORIES:holiday program,Intl Preschool,Intl Teenagers
END:VEVENT
END:VCALENDAR