BEGIN:VCALENDAR
VERSION:2.0
PRODID:-//Lara&#039;s Place: Activity &amp; Learning Center for All Ages - ECPv6.3.2//NONSGML v1.0//EN
CALSCALE:GREGORIAN
METHOD:PUBLISH
X-WR-CALNAME:Lara&#039;s Place: Activity &amp; Learning Center for All Ages
X-ORIGINAL-URL:https://larasplace.my
X-WR-CALDESC:Events for Lara&#039;s Place: Activity &amp; Learning Center for All Ages
REFRESH-INTERVAL;VALUE=DURATION:PT1H
X-Robots-Tag:noindex
X-PUBLISHED-TTL:PT1H
BEGIN:VTIMEZONE
TZID:Asia/Kuala_Lumpur
BEGIN:STANDARD
TZOFFSETFROM:+0800
TZOFFSETTO:+0800
TZNAME:+08
DTSTART:20220101T000000
END:STANDARD
END:VTIMEZONE
BEGIN:VEVENT
DTSTART;TZID=Asia/Kuala_Lumpur:20220801T100000
DTEND;TZID=Asia/Kuala_Lumpur:20220805T150000
DTSTAMP:20260425T071551
CREATED:20181112T054637Z
LAST-MODIFIED:20220708T213335Z
UID:12658-1659348000-1659711600@larasplace.my
SUMMARY:HEALTH & PERSONAL CARE PROGRAM (July Aug 2022)
DESCRIPTION:Health & Personal Care Program\n\nHEALTH & PERSONAL CARE PROGRAM (includes Best Chefs-Healthy snacks cooking/baking\, Fitness workshops and DIY Personal Care workshops)\n\n\nDate: Aug 1-5\nTime: 10am to 3pm\nFee: half day RM80/100\, full day Rm150 or RM700 for 5 full days.\n\n\n \nLimited Space only.  Booking must be confirmed with payment. Bank in: Rix Management Services Sdn Bhd – Hong Leong a/c 00100306130 (pls whatsapp receipt to 0178862687 or email to larasplace@gmail.com)
URL:https://larasplace.my/event/lifetime-happy-healthy-mind-body-program-holiday-program/
CATEGORIES:holiday program
END:VEVENT
END:VCALENDAR