BEGIN:VCALENDAR
VERSION:2.0
PRODID:-//Lara&#039;s Place: Activity &amp; Learning Center for All Ages - ECPv6.3.2//NONSGML v1.0//EN
CALSCALE:GREGORIAN
METHOD:PUBLISH
X-WR-CALNAME:Lara&#039;s Place: Activity &amp; Learning Center for All Ages
X-ORIGINAL-URL:https://larasplace.my
X-WR-CALDESC:Events for Lara&#039;s Place: Activity &amp; Learning Center for All Ages
REFRESH-INTERVAL;VALUE=DURATION:PT1H
X-Robots-Tag:noindex
X-PUBLISHED-TTL:PT1H
BEGIN:VTIMEZONE
TZID:Asia/Kuala_Lumpur
BEGIN:STANDARD
TZOFFSETFROM:+0800
TZOFFSETTO:+0800
TZNAME:+08
DTSTART:20210101T000000
END:STANDARD
END:VTIMEZONE
BEGIN:VEVENT
DTSTART;TZID=Asia/Kuala_Lumpur:20210531T100000
DTEND;TZID=Asia/Kuala_Lumpur:20210611T120000
DTSTAMP:20260426T042012
CREATED:20181112T050553Z
LAST-MODIFIED:20210507T171623Z
UID:12640-1622455200-1623412800@larasplace.my
SUMMARY:Best Chef Cooking & Baking workshops / Holiday Program(Dec 2020-Jan 2021)
DESCRIPTION:BEST CHEFS  Workshops \n\n\n\n* BEST CHEFS  Cooking/Baking Workshops (Christmas Pizza\, Food Carving\, Gingerbread Cookies / House \, Puff Pastries\, Baked Cheese Crackers\, Crepes with Fruits & Yogurt\,  Nachos\, Honey choc chip cookies\, Veg Tortilla Wrap\, Popping candy cupcakes\, Fruit Puff Pastries\, Brownie Cookies\, Lemon Slice\,  Cheeseburgers\, Handmade Noodles\, Gyoza\, Pizza and Essential Cooking     \nTime: 10am to 12pm\nFee: RM80 per workshop or RM350 for 5 workshops \n\nvenue- TrebleArts Studio\, 21-2 (2nd Flr\, Jalan 17/56\, Seksyen 17\, 46400 Petaling Jaya\n\n*FULL DAY PACKAGE– 2 programs &lunch 10am-230pm RM150 or 5 days RM700/ EXT PACKAGE-3 programs & lunch 10am-4pm RM195 or RM950 (*applicable for certain programs)\n\n\n\n\n\n\n \n  \n\n\n\nPLEASE CLICK HERE FOR HOLIDAY PROGRAM REGISTRATION FORM \n\nDOWNLOAD REGISTRATION FORM\n\n\n\n  \n\n\n\n*FULL DAY PACKAGE– 2 programs &lunch 10am-230pm RM150 or 5 days RM700/ EXT PACKAGE-3 programs & lunch 10am-4pm RM195 or RM950 (*applicable for certain programs)\n\n\n\n  \n\n\n\nSchedule & itinerary are subject to changes.  Optional: Lunch RM15 per day (full day program includes lunch).\n\n\n\n  \n\nBooking must be confirmed with payment. Bank in: Rix Management Services Sdn Bhd – Hong Leong a/c 00100306130\n\n  \n\nLara’s Place Tel: 0178862687 Email:larasplace@gmail.com\nWebsite: www.larasplace.my\n\n 
URL:https://larasplace.my/event/best-chef-cooking-baking-workshops-holiday-program/
CATEGORIES:holiday program
END:VEVENT
END:VCALENDAR