BEGIN:VCALENDAR
VERSION:2.0
PRODID:-//Lara&#039;s Place: Activity &amp; Learning Center for All Ages - ECPv6.3.2//NONSGML v1.0//EN
CALSCALE:GREGORIAN
METHOD:PUBLISH
X-ORIGINAL-URL:https://larasplace.my
X-WR-CALDESC:Events for Lara&#039;s Place: Activity &amp; Learning Center for All Ages
REFRESH-INTERVAL;VALUE=DURATION:PT1H
X-Robots-Tag:noindex
X-PUBLISHED-TTL:PT1H
BEGIN:VTIMEZONE
TZID:Asia/Kuala_Lumpur
BEGIN:STANDARD
TZOFFSETFROM:+0800
TZOFFSETTO:+0800
TZNAME:+08
DTSTART:20220101T000000
END:STANDARD
END:VTIMEZONE
BEGIN:VEVENT
DTSTART;TZID=Asia/Kuala_Lumpur:20220718T100000
DTEND;TZID=Asia/Kuala_Lumpur:20220722T150000
DTSTAMP:20260425T071550
CREATED:20201127T212305Z
LAST-MODIFIED:20220708T220427Z
UID:13490-1658138400-1658502000@larasplace.my
SUMMARY:THEME HOLIDAY PROGRAMS JULY AUGUST 2022
DESCRIPTION:* THEME PROGRAMS (includes best chefs\, creative projects and 3D soaps workshops)\n\nTHEME PROGRAMS (includes best chefs and creative projects workshops) A-MAGICAL (Magic pop candy cupcakes and Magicians workshop  B– GORGEOUS GARDENS (Fruit Tartlets and Garden Terrarium  C– DELICIOUS DESSERTS (Brownie Cookies and 3D Cupcake Soaps) D-BEACH (Beach Lemon Slice\, and DIY Electric boat  RM90 for 1 (half day) workshop / RM150 for full day 2 x workshops Jul 18\, 20\,21\,22\n\n\nTime: 10am to 12pm / 1-3pm / 10am to 3pm\nA-MAGICAL (Magic popping candy cupcakes\, Magicians workshop)\nB– GORGEOUS GARDENS (Fruit Puff Pastries / Garden Terrarium)\nC– DELICIOUS DESSERTS (Brownie Cookies & Cupcake Soaps)\nD-BEAUTIFUL BEACH (Beach Lemon Slice\, DIY Electric boat)\nFee: Half day-RM90\, Full day – 2 programs 10am-3pm RM150 or 5 days RM700\n \n  \n\nBooking must be confirmed with payment. Bank in: Rix Management Services Sdn Bhd – Hong Leong a/c 00100306130\nLara’s Place Tel: 0178862687 Email:larasplace@gmail.com\nWebsite: www.larasplace.my
URL:https://larasplace.my/event/theme-holiday-programs/
CATEGORIES:holiday program
END:VEVENT
END:VCALENDAR