BEGIN:VCALENDAR
VERSION:2.0
PRODID:-//Lara&#039;s Place: Activity &amp; Learning Center for All Ages - ECPv6.3.2//NONSGML v1.0//EN
CALSCALE:GREGORIAN
METHOD:PUBLISH
X-ORIGINAL-URL:https://larasplace.my
X-WR-CALDESC:Events for Lara&#039;s Place: Activity &amp; Learning Center for All Ages
REFRESH-INTERVAL;VALUE=DURATION:PT1H
X-Robots-Tag:noindex
X-PUBLISHED-TTL:PT1H
BEGIN:VTIMEZONE
TZID:Asia/Kuala_Lumpur
BEGIN:STANDARD
TZOFFSETFROM:+0800
TZOFFSETTO:+0800
TZNAME:+08
DTSTART:20250101T000000
END:STANDARD
END:VTIMEZONE
BEGIN:VEVENT
DTSTART;TZID=Asia/Kuala_Lumpur:20250804T100000
DTEND;TZID=Asia/Kuala_Lumpur:20250808T160000
DTSTAMP:20260423T072303
CREATED:20190626T170147Z
LAST-MODIFIED:20250607T170343Z
UID:12917-1754301600-1754668800@larasplace.my
SUMMARY:Nature Wonders Holiday Program July August 2025
DESCRIPTION:NATURE WONDERS HOLIDAY PROGRAM\nNature\, Forest\, Sea\, Sustainable Living\, Extinct & Endangered Animals\, Nature Games\, Mural Painting\,Tote Bag Designing\, Plant Terrarium\, Sea World Water Globe\, Science Experiment\, Nature Soap\, Food Gardening\, DIY Natural Products and Eco-Gifts Making\, DIY Dinosaurs\, Animal Collage Art\, Snake Breadsticks & Animal Biscuits(itinerary is subject to changes) \nDate: August 4-8 2025\nTime: 10am to 4pm\nFee: RM90 half day\, RM168 for full day and RM825 for 5 full days with lunches.
URL:https://larasplace.my/event/nature-wonders-holiday-program/
CATEGORIES:holiday program,Intl Preschool,Intl Teenagers
END:VEVENT
END:VCALENDAR